BEGIN:VCALENDAR
VERSION:2.0
PRODID:-//eventon.com NONSGML v1.0//EN
CALSCALE:GREGORIAN
METHOD:PUBLISH
BEGIN:VEVENT
UID:69e592d00c584
DTSTAMP:20260420T024328Z
DTSTART:20260704T040000Z
DTEND:20260704T070000Z
LOCATION:
SUMMARY:Run van Roden
DESCRIPTION:Run van Roden\nhttps://volksvermaken.nl/events/run-van-roden/
URL:https://volksvermaken.nl/events/run-van-roden/
END:VEVENT
END:VCALENDAR