BEGIN:VCALENDAR
VERSION:2.0
PRODID:-//eventon.com NONSGML v1.0//EN
CALSCALE:GREGORIAN
METHOD:PUBLISH
BEGIN:VEVENT
UID:69ea1a07797d2
DTSTAMP:20260423T130927Z
DTSTART:20260809T130000Z
DTEND:20260809T190000Z
LOCATION:Evenemententerrein Norgerweg 2B
SUMMARY:Radio NL
DESCRIPTION:\nhttps://volksvermaken.nl/events/radio-nl/
URL:https://volksvermaken.nl/events/radio-nl/
END:VEVENT
END:VCALENDAR