BEGIN:VCALENDAR
VERSION:2.0
PRODID:-//eventon.com NONSGML v1.0//EN
CALSCALE:GREGORIAN
METHOD:PUBLISH
BEGIN:VEVENT
UID:69ecd6ce31fd0
DTSTAMP:20260425T145926Z
DTSTART:20260406
DTEND:20260407
LOCATION:
SUMMARY:Noord Nederlandse Kampioenschap neutjeschieten
DESCRIPTION:Noord Nederlandse Kampioenschap neutjeschieten\nhttps://volksve
 rmaken.nl/events/neutjeschieten/
URL:https://volksvermaken.nl/events/neutjeschieten/
END:VEVENT
END:VCALENDAR