BEGIN:VCALENDAR
VERSION:2.0
PRODID:-//eventon.com NONSGML v1.0//EN
CALSCALE:GREGORIAN
METHOD:PUBLISH
BEGIN:VEVENT
UID:69e7302244733
DTSTAMP:20260421T080658Z
DTSTART:20260514
DTEND:20260515
LOCATION:Centrum Roden
SUMMARY:14 t/m 17 mei |  Kleintje  Rodermarkt
DESCRIPTION:Rond Hemelvaart staat Roden altijd in het teken van het “Klei
 ntje Rodermarkt”. Deze gezellige week begint op de woensdag voor Hemelvaa
 rt met de opening van de kermis en staat bol van activiteiten zoals het CH 
 Springen en Dressuur\,  Ponyconcours en dit jaar voor het eerst\,  een spec
 taculaire Lasershow. Daarnaast is[..]\nhttps://volksvermaken.nl/events/klei
 ntje-rodermarkt/
URL:https://volksvermaken.nl/events/kleintje-rodermarkt/
END:VEVENT
END:VCALENDAR