BEGIN:VCALENDAR
VERSION:2.0
PRODID:-//eventon.com NONSGML v1.0//EN
CALSCALE:GREGORIAN
METHOD:PUBLISH
BEGIN:VEVENT
UID:69e5915709ec2
DTSTAMP:20260420T023711Z
DTSTART:20260517
DTEND:20260518
LOCATION:
SUMMARY:Familie Fietstocht
DESCRIPTION:Familie Fietstocht\nhttps://volksvermaken.nl/events/https-volks
 vermaken-nl-familie-fietstocht/
URL:https://volksvermaken.nl/events/https-volksvermaken-nl-familie-fietstocht/
END:VEVENT
END:VCALENDAR