BEGIN:VCALENDAR
VERSION:2.0
PRODID:-//eventon.com NONSGML v1.0//EN
CALSCALE:GREGORIAN
METHOD:PUBLISH
BEGIN:VEVENT
UID:69e6444578d32
DTSTAMP:20260420T152037Z
DTSTART:20260918
DTEND:20260919
LOCATION:Centrum Roden
SUMMARY:18 t/m 23 september | Straatverlichtingsprijs
DESCRIPTION:\nhttps://volksvermaken.nl/events/rodermarkt-feestweek/
URL:https://volksvermaken.nl/events/rodermarkt-feestweek/
END:VEVENT
END:VCALENDAR