BEGIN:VCALENDAR
VERSION:2.0
PRODID:-//eventon.com NONSGML v1.0//EN
CALSCALE:GREGORIAN
METHOD:PUBLISH
BEGIN:VEVENT
UID:69e8d4b8efec3
DTSTAMP:20260422T140128Z
DTSTART:20260922
DTEND:20260923
LOCATION:Centrum Roden
SUMMARY:Rodermarkt\,  waren- en paardenmarkt
DESCRIPTION:Rodermarkt\,  waren- en paardenmarkt\nhttps://volksvermaken.nl/
 events/rodermarkt-waren-en-paardenmarkt/
URL:https://volksvermaken.nl/events/rodermarkt-waren-en-paardenmarkt/
END:VEVENT
END:VCALENDAR