BEGIN:VCALENDAR
VERSION:2.0
PRODID:-//eventon.com NONSGML v1.0//EN
CALSCALE:GREGORIAN
METHOD:PUBLISH
BEGIN:VEVENT
UID:69e592aaeb6f0
DTSTAMP:20260420T024250Z
DTSTART:20261114
DTEND:20261115
LOCATION:Centrum Roden
SUMMARY:Intocht Sint-Nicolaas
DESCRIPTION:Intocht Sint-Nicolaas 13:30 uur\,  aankomst op de Albertsbaan 1
 4:30 uur\,  Sinterklaasshow in de Pompstee. I.s.m. de Zakenring\nhttps://vo
 lksvermaken.nl/events/intocht-sint-nicolaas/
URL:https://volksvermaken.nl/events/intocht-sint-nicolaas/
END:VEVENT
END:VCALENDAR