BEGIN:VCALENDAR
VERSION:2.0
PRODID:-//eventon.com NONSGML v1.0//EN
CALSCALE:GREGORIAN
METHOD:PUBLISH
BEGIN:VEVENT
UID:69e591e9b5c03
DTSTAMP:20260420T023937Z
DTSTART:20261212
DTEND:20261213
LOCATION:Centrum Roden
SUMMARY:Roder Weihnachtsmarkt
DESCRIPTION:December Roder Weihnachtsmarkt op de Brink in Roden I.s.m. de Z
 akenkring\nhttps://volksvermaken.nl/events/roder-weihnachtsmarkt/
URL:https://volksvermaken.nl/events/roder-weihnachtsmarkt/
END:VEVENT
END:VCALENDAR