BEGIN:VCALENDAR
VERSION:2.0
PRODID:-//eventon.com NONSGML v1.0//EN
CALSCALE:GREGORIAN
METHOD:PUBLISH
BEGIN:VEVENT
UID:69e8d34cb3718
DTSTAMP:20260422T135524Z
DTSTART:20260516
DTEND:20260517
LOCATION:Centrum Roden
SUMMARY:Bixie-wedstrijden: Dressuur en Springen
DESCRIPTION:&nbsp; &nbsp;\nhttps://volksvermaken.nl/events/bixie-wedstrijde
 n-springen-dressuur-en-mennen/
URL:https://volksvermaken.nl/events/bixie-wedstrijden-springen-dressuur-en-mennen/
END:VEVENT
END:VCALENDAR